BEGIN:VCALENDAR
VERSION:2.0
PRODID:-//Nepali Calendar//EN
BEGIN:VEVENT
UID:56d4ffd126623e893b4035200872dc6b@nepalicalendar.com
DTSTAMP:20260422T173612Z
DTSTART;VALUE=DATE:20240809
DTEND;VALUE=DATE:20240810
SUMMARY:थारु गुरिया पर्व
DESCRIPTION:थारु गुरिया पर्व
END:VEVENT
END:VCALENDAR