BEGIN:VCALENDAR
VERSION:2.0
PRODID:-//Nepali Calendar//EN
BEGIN:VEVENT
UID:a5d186aa7636796e4a3829f15acf73b8@nepalicalendar.com
DTSTAMP:20260422T173323Z
DTSTART;VALUE=DATE:20240809
DTEND;VALUE=DATE:20240810
SUMMARY:नाग पञ्चमी व्रत
DESCRIPTION:नाग पञ्चमी व्रत
END:VEVENT
END:VCALENDAR