BEGIN:VCALENDAR
VERSION:2.0
PRODID:-//Nepali Calendar//EN
BEGIN:VEVENT
UID:c40515e89dd5e71b3f982162b37d994f@nepalicalendar.com
DTSTAMP:20260422T173324Z
DTSTART;VALUE=DATE:20240808
DTEND;VALUE=DATE:20240809
SUMMARY:अन्तर्राष्ट्रिय भू संरक्षण दिवस
DESCRIPTION:अन्तर्राष्ट्रिय भू संरक्षण दिवस
END:VEVENT
END:VCALENDAR