BEGIN:VCALENDAR
VERSION:2.0
PRODID:-//Nepali Calendar//EN
BEGIN:VEVENT
UID:df07a32fe2124faf60e47d0bf1a49b8d@nepalicalendar.com
DTSTAMP:20260422T173135Z
DTSTART;VALUE=DATE:20240807
DTEND;VALUE=DATE:20240808
SUMMARY:वराह जयन्ती
DESCRIPTION:वराह जयन्ती
END:VEVENT
END:VCALENDAR