BEGIN:VCALENDAR
VERSION:2.0
PRODID:-//Nepali Calendar//EN
BEGIN:VEVENT
UID:3952345d452b43fe79627da9e00765d0@nepalicalendar.com
DTSTAMP:20260421T231935Z
DTSTART;VALUE=DATE:20250615
DTEND;VALUE=DATE:20250616
SUMMARY:विश्व अग्रज दुर्व्यवहार जागरुकता दिवस
DESCRIPTION:विश्व अग्रज दुर्व्यवहार जागरुकता दिवस
END:VEVENT
END:VCALENDAR