BEGIN:VCALENDAR
VERSION:2.0
PRODID:-//Nepali Calendar//EN
BEGIN:VEVENT
UID:b517d8d1937e7ce61e156991efd1e503@nepalicalendar.com
DTSTAMP:20260422T173028Z
DTSTART;VALUE=DATE:20240805
DTEND;VALUE=DATE:20240806
SUMMARY:गुंलापर्व आरम्भ
DESCRIPTION:गुंलापर्व आरम्भ
END:VEVENT
END:VCALENDAR