BEGIN:VCALENDAR
VERSION:2.0
PRODID:-//Nepali Calendar//EN
BEGIN:VEVENT
UID:8300e1ac32a048811a0db8c3b798c820@nepalicalendar.com
DTSTAMP:20260422T173123Z
DTSTART;VALUE=DATE:20240804
DTEND;VALUE=DATE:20240805
SUMMARY:भोटो जात्रा (उपत्यका विदा)
DESCRIPTION:भोटो जात्रा (उपत्यका विदा)
END:VEVENT
END:VCALENDAR