BEGIN:VCALENDAR
VERSION:2.0
PRODID:-//Nepali Calendar//EN
BEGIN:VEVENT
UID:a8aa8ba00acf2a9c21bb19ec17097e1c@nepalicalendar.com
DTSTAMP:20260422T173316Z
DTSTART;VALUE=DATE:20240802
DTEND;VALUE=DATE:20240803
SUMMARY:गथांमुगः चःह्रे
DESCRIPTION:गथांमुगः चःह्रे
END:VEVENT
END:VCALENDAR