BEGIN:VCALENDAR
VERSION:2.0
PRODID:-//Nepali Calendar//EN
BEGIN:VEVENT
UID:69d805765a1cdc5d0b67cb3f4ff0c212@nepalicalendar.com
DTSTAMP:20260422T173335Z
DTSTART;VALUE=DATE:20240801
DTEND;VALUE=DATE:20240802
SUMMARY:विश्व स्तनपान सप्ताह प्रारम्भ
DESCRIPTION:विश्व स्तनपान सप्ताह प्रारम्भ
END:VEVENT
END:VCALENDAR