BEGIN:VCALENDAR
VERSION:2.0
PRODID:-//Nepali Calendar//EN
BEGIN:VEVENT
UID:9562d28f4f5e268d45c4c16e2ef37014@nepalicalendar.com
DTSTAMP:20260422T173252Z
DTSTART;VALUE=DATE:20240801
DTEND;VALUE=DATE:20240802
SUMMARY:प्रदोष व्रत
DESCRIPTION:प्रदोष व्रत
END:VEVENT
END:VCALENDAR