BEGIN:VCALENDAR
VERSION:2.0
PRODID:-//Nepali Calendar//EN
BEGIN:VEVENT
UID:15c210c57b95f1e848fea937810e2c8d@nepalicalendar.com
DTSTAMP:20260422T173317Z
DTSTART;VALUE=DATE:20240731
DTEND;VALUE=DATE:20240801
SUMMARY:कामिका एकादशी व्रत
DESCRIPTION:कामिका एकादशी व्रत
END:VEVENT
END:VCALENDAR