BEGIN:VCALENDAR
VERSION:2.0
PRODID:-//Nepali Calendar//EN
BEGIN:VEVENT
UID:297e9a6b10804c078bd433a34910c192@nepalicalendar.com
DTSTAMP:20260422T173323Z
DTSTART;VALUE=DATE:20240730
DTEND;VALUE=DATE:20240731
SUMMARY:अन्तर्राष्ट्रिय मित्रता दिवस
DESCRIPTION:अन्तर्राष्ट्रिय मित्रता दिवस
END:VEVENT
END:VCALENDAR