BEGIN:VCALENDAR
VERSION:2.0
PRODID:-//Nepali Calendar//EN
BEGIN:VEVENT
UID:9329977f0445618e48d75bc5c89c0cd5@nepalicalendar.com
DTSTAMP:20260422T173447Z
DTSTART;VALUE=DATE:20240730
DTEND;VALUE=DATE:20240731
SUMMARY:अन्तराष्ट्रिय मानव बेचबिखन विरुद्ध दिवस
DESCRIPTION:अन्तराष्ट्रिय मानव बेचबिखन विरुद्ध दिवस
END:VEVENT
END:VCALENDAR