BEGIN:VCALENDAR
VERSION:2.0
PRODID:-//Nepali Calendar//EN
BEGIN:VEVENT
UID:b27d5c8fa48266e53259b5870bde9164@nepalicalendar.com
DTSTAMP:20260422T173317Z
DTSTART;VALUE=DATE:20240730
DTEND;VALUE=DATE:20240731
SUMMARY:खीर खाने दिन
DESCRIPTION:खीर खाने दिन
END:VEVENT
END:VCALENDAR