BEGIN:VCALENDAR
VERSION:2.0
PRODID:-//Nepali Calendar//EN
BEGIN:VEVENT
UID:6f404347599fb0ab645dce554d5493bb@nepalicalendar.com
DTSTAMP:20260422T173508Z
DTSTART;VALUE=DATE:20240729
DTEND;VALUE=DATE:20240730
SUMMARY:विश्व बाघ दिवस
DESCRIPTION:विश्व बाघ दिवस
END:VEVENT
END:VCALENDAR