BEGIN:VCALENDAR
VERSION:2.0
PRODID:-//Nepali Calendar//EN
BEGIN:VEVENT
UID:e2efd69b9e10e775a2d94a26798bf725@nepalicalendar.com
DTSTAMP:20260421T231930Z
DTSTART;VALUE=DATE:20250615
DTEND;VALUE=DATE:20250616
SUMMARY:अन्तर्राष्ट्रिय बुवा दिवस
DESCRIPTION:अन्तर्राष्ट्रिय बुवा दिवस
END:VEVENT
END:VCALENDAR