BEGIN:VCALENDAR
VERSION:2.0
PRODID:-//Nepali Calendar//EN
BEGIN:VEVENT
UID:9dd25f1aaa1b0c17390682d4c0426806@nepalicalendar.com
DTSTAMP:20260422T173155Z
DTSTART;VALUE=DATE:20240728
DTEND;VALUE=DATE:20240729
SUMMARY:गोरखकाली पूजा
DESCRIPTION:गोरखकाली पूजा
END:VEVENT
END:VCALENDAR