BEGIN:VCALENDAR
VERSION:2.0
PRODID:-//Nepali Calendar//EN
BEGIN:VEVENT
UID:576244649b04fb07e289a7d88be594e4@nepalicalendar.com
DTSTAMP:20260422T173252Z
DTSTART;VALUE=DATE:20240728
DTEND;VALUE=DATE:20240729
SUMMARY:विश्व हेपाटाइटिस दिवस
DESCRIPTION:विश्व हेपाटाइटिस दिवस
END:VEVENT
END:VCALENDAR