BEGIN:VCALENDAR
VERSION:2.0
PRODID:-//Nepali Calendar//EN
BEGIN:VEVENT
UID:eb53fc90b8f8fae80d133a0b31fe45cb@nepalicalendar.com
DTSTAMP:20260422T173447Z
DTSTART;VALUE=DATE:20240726
DTEND;VALUE=DATE:20240727
SUMMARY:बीतक कथा प्रारम्भ
DESCRIPTION:बीतक कथा प्रारम्भ
END:VEVENT
END:VCALENDAR