BEGIN:VCALENDAR
VERSION:2.0
PRODID:-//Nepali Calendar//EN
BEGIN:VEVENT
UID:4d6ea4d809374d05141c1c3496941db8@nepalicalendar.com
DTSTAMP:20260422T173426Z
DTSTART;VALUE=DATE:20240721
DTEND;VALUE=DATE:20240722
SUMMARY:व्यास जयन्ती
DESCRIPTION:व्यास जयन्ती
END:VEVENT
END:VCALENDAR