BEGIN:VCALENDAR
VERSION:2.0
PRODID:-//Nepali Calendar//EN
BEGIN:VEVENT
UID:848c7663b6c90c723a689c23b5111a65@nepalicalendar.com
DTSTAMP:20260422T173124Z
DTSTART;VALUE=DATE:20240721
DTEND;VALUE=DATE:20240722
SUMMARY:गुरु पुर्णिमा व्रत
DESCRIPTION:गुरु पुर्णिमा व्रत
END:VEVENT
END:VCALENDAR