BEGIN:VCALENDAR
VERSION:2.0
PRODID:-//Nepali Calendar//EN
BEGIN:VEVENT
UID:8e5e67c1d8b850f3f49c6cbd17d71b05@nepalicalendar.com
DTSTAMP:20260422T173027Z
DTSTART;VALUE=DATE:20240718
DTEND;VALUE=DATE:20240719
SUMMARY:प्रदोष व्रत
DESCRIPTION:प्रदोष व्रत
END:VEVENT
END:VCALENDAR