BEGIN:VCALENDAR
VERSION:2.0
PRODID:-//Nepali Calendar//EN
BEGIN:VEVENT
UID:e3e10c5177188a000ee6c9258b7ec879@nepalicalendar.com
DTSTAMP:20260422T173606Z
DTSTART;VALUE=DATE:20240717
DTEND;VALUE=DATE:20240718
SUMMARY:चतुर्मास व्रत आरम्भ
DESCRIPTION:चतुर्मास व्रत आरम्भ
END:VEVENT
END:VCALENDAR