BEGIN:VCALENDAR
VERSION:2.0
PRODID:-//Nepali Calendar//EN
BEGIN:VEVENT
UID:a3f1c0110cfcd8c957856af4340851cc@nepalicalendar.com
DTSTAMP:20260422T173335Z
DTSTART;VALUE=DATE:20240717
DTEND;VALUE=DATE:20240718
SUMMARY:हरिशयनी एकादशी व्रत (तुलसी रोप्ने)
DESCRIPTION:हरिशयनी एकादशी व्रत (तुलसी रोप्ने)
END:VEVENT
END:VCALENDAR