BEGIN:VCALENDAR
VERSION:2.0
PRODID:-//Nepali Calendar//EN
BEGIN:VEVENT
UID:e6728aad2984077f7c80b2f7432d3c3e@nepalicalendar.com
DTSTAMP:20260422T173028Z
DTSTART;VALUE=DATE:20240716
DTEND;VALUE=DATE:20240717
SUMMARY:दक्षिणायन आरम्भ
DESCRIPTION:दक्षिणायन आरम्भ
END:VEVENT
END:VCALENDAR