BEGIN:VCALENDAR
VERSION:2.0
PRODID:-//Nepali Calendar//EN
BEGIN:VEVENT
UID:cd2aa4f74b3a4c7ed584a53d46e40027@nepalicalendar.com
DTSTAMP:20260421T231810Z
DTSTART;VALUE=DATE:20250615
DTEND;VALUE=DATE:20250616
SUMMARY:मिथुन संक्रान्ति
DESCRIPTION:मिथुन संक्रान्ति
END:VEVENT
END:VCALENDAR