BEGIN:VCALENDAR
VERSION:2.0
PRODID:-//Nepali Calendar//EN
BEGIN:VEVENT
UID:55d8877b2e9f20ebcb4076988b835993@nepalicalendar.com
DTSTAMP:20260422T173507Z
DTSTART;VALUE=DATE:20240716
DTEND;VALUE=DATE:20240717
SUMMARY:लुतो फाल्ने दिन
DESCRIPTION:लुतो फाल्ने दिन
END:VEVENT
END:VCALENDAR