BEGIN:VCALENDAR
VERSION:2.0
PRODID:-//Nepali Calendar//EN
BEGIN:VEVENT
UID:d2da1a6ac123d5c92e65a999ac19bb4f@nepalicalendar.com
DTSTAMP:20260422T173616Z
DTSTART;VALUE=DATE:20240716
DTEND;VALUE=DATE:20240717
SUMMARY:कर्कट सङ्क्रान्ति
DESCRIPTION:कर्कट सङ्क्रान्ति
END:VEVENT
END:VCALENDAR