BEGIN:VCALENDAR
VERSION:2.0
PRODID:-//Nepali Calendar//EN
BEGIN:VEVENT
UID:2abd061347c300a6848730359cacc7b1@nepalicalendar.com
DTSTAMP:20260422T191306Z
DTSTART;VALUE=DATE:20240715
DTEND;VALUE=DATE:20240716
SUMMARY:विश्व युवा दक्षता दिवस
DESCRIPTION:विश्व युवा दक्षता दिवस
END:VEVENT
END:VCALENDAR