BEGIN:VCALENDAR
VERSION:2.0
PRODID:-//Nepali Calendar//EN
BEGIN:VEVENT
UID:d2ffe397e8dc26d8089cdae311154cb0@nepalicalendar.com
DTSTAMP:20260422T190708Z
DTSTART;VALUE=DATE:20240714
DTEND;VALUE=DATE:20240715
SUMMARY:गोरखकाली पूजा
DESCRIPTION:गोरखकाली पूजा
END:VEVENT
END:VCALENDAR