BEGIN:VCALENDAR
VERSION:2.0
PRODID:-//Nepali Calendar//EN
BEGIN:VEVENT
UID:b7d84e6a155b6fa805db1dd323b6ef7d@nepalicalendar.com
DTSTAMP:20260422T191311Z
DTSTART;VALUE=DATE:20240713
DTEND;VALUE=DATE:20240714
SUMMARY:सूर्य पूजा
DESCRIPTION:सूर्य पूजा
END:VEVENT
END:VCALENDAR