BEGIN:VCALENDAR
VERSION:2.0
PRODID:-//Nepali Calendar//EN
BEGIN:VEVENT
UID:8d1abdc774bff844c8bbcf3a6d5af7a0@nepalicalendar.com
DTSTAMP:20260422T191005Z
DTSTART;VALUE=DATE:20240713
DTEND;VALUE=DATE:20240714
SUMMARY:भानु जयन्ती
DESCRIPTION:भानु जयन्ती
END:VEVENT
END:VCALENDAR