BEGIN:VCALENDAR
VERSION:2.0
PRODID:-//Nepali Calendar//EN
BEGIN:VEVENT
UID:0cfb22ea7b54452bf1fd21e1e03c66fd@nepalicalendar.com
DTSTAMP:20260422T191148Z
DTSTART;VALUE=DATE:20240711
DTEND;VALUE=DATE:20240712
SUMMARY:विश्व जनसंख्या दिवस
DESCRIPTION:विश्व जनसंख्या दिवस
END:VEVENT
END:VCALENDAR