BEGIN:VCALENDAR
VERSION:2.0
PRODID:-//Nepali Calendar//EN
BEGIN:VEVENT
UID:32822952adb60f563ee21b0274068a0f@nepalicalendar.com
DTSTAMP:20260422T190943Z
DTSTART;VALUE=DATE:20240706
DTEND;VALUE=DATE:20240707
SUMMARY:अन्तर्राष्ट्रिय सहकारी दिवस
DESCRIPTION:अन्तर्राष्ट्रिय सहकारी दिवस
END:VEVENT
END:VCALENDAR