BEGIN:VCALENDAR
VERSION:2.0
PRODID:-//Nepali Calendar//EN
BEGIN:VEVENT
UID:86d58f43f42323eb700e084a8d9c5d22@nepalicalendar.com
DTSTAMP:20260422T191101Z
DTSTART;VALUE=DATE:20240703
DTEND;VALUE=DATE:20240704
SUMMARY:प्रदोष व्रत
DESCRIPTION:प्रदोष व्रत
END:VEVENT
END:VCALENDAR