BEGIN:VCALENDAR
VERSION:2.0
PRODID:-//Nepali Calendar//EN
BEGIN:VEVENT
UID:4b625302512a6c5e97c3a1f03ad17020@nepalicalendar.com
DTSTAMP:20260422T190847Z
DTSTART;VALUE=DATE:20240702
DTEND;VALUE=DATE:20240703
SUMMARY:विश्व खेलकुद पत्रकार दिवस
DESCRIPTION:विश्व खेलकुद पत्रकार दिवस
END:VEVENT
END:VCALENDAR