BEGIN:VCALENDAR
VERSION:2.0
PRODID:-//Nepali Calendar//EN
BEGIN:VEVENT
UID:dd9a5c6c6079c9ddc7e75205a445f106@nepalicalendar.com
DTSTAMP:20260422T005823Z
DTSTART;VALUE=DATE:20250614
DTEND;VALUE=DATE:20250615
SUMMARY:विश्व रक्तदाता दिवस
DESCRIPTION:विश्व रक्तदाता दिवस
END:VEVENT
END:VCALENDAR