BEGIN:VCALENDAR
VERSION:2.0
PRODID:-//Nepali Calendar//EN
BEGIN:VEVENT
UID:4c075535b91d83e354e9784a40501e3f@nepalicalendar.com
DTSTAMP:20260422T191101Z
DTSTART;VALUE=DATE:20240702
DTEND;VALUE=DATE:20240703
SUMMARY:योगिनी एकादशी व्रत
DESCRIPTION:योगिनी एकादशी व्रत
END:VEVENT
END:VCALENDAR