BEGIN:VCALENDAR
VERSION:2.0
PRODID:-//Nepali Calendar//EN
BEGIN:VEVENT
UID:4d2e08d2f6d0bbfd5b0dec5d9c0f73af@nepalicalendar.com
DTSTAMP:20260422T191204Z
DTSTART;VALUE=DATE:20240629
DTEND;VALUE=DATE:20240630
SUMMARY:गोरखकाली पूजा
DESCRIPTION:गोरखकाली पूजा
END:VEVENT
END:VCALENDAR