BEGIN:VCALENDAR
VERSION:2.0
PRODID:-//Nepali Calendar//EN
BEGIN:VEVENT
UID:f0a49a7b00752451dafdc9cc4c0b17c9@nepalicalendar.com
DTSTAMP:20260422T190719Z
DTSTART;VALUE=DATE:20240629
DTEND;VALUE=DATE:20240630
SUMMARY:राष्ट्रिय धान दिवस
DESCRIPTION:राष्ट्रिय धान दिवस
END:VEVENT
END:VCALENDAR