BEGIN:VCALENDAR
VERSION:2.0
PRODID:-//Nepali Calendar//EN
BEGIN:VEVENT
UID:2a532cced04bed2d0a189ed1c676c435@nepalicalendar.com
DTSTAMP:20260422T190719Z
DTSTART;VALUE=DATE:20240629
DTEND;VALUE=DATE:20240630
SUMMARY:दहीचिउरा खाने दिन
DESCRIPTION:दहीचिउरा खाने दिन
END:VEVENT
END:VCALENDAR