BEGIN:VCALENDAR
VERSION:2.0
PRODID:-//Nepali Calendar//EN
BEGIN:VEVENT
UID:479487845aa9a8a09a00e94fbf30d8c7@nepalicalendar.com
DTSTAMP:20260422T191117Z
DTSTART;VALUE=DATE:20240626
DTEND;VALUE=DATE:20240627
SUMMARY:अन्तर्राष्ट्रिय लागू पदार्थ तथा अवैध तस्करी विरुद्ध दिवस
DESCRIPTION:अन्तर्राष्ट्रिय लागू पदार्थ तथा अवैध तस्करी विरुद्ध दिवस
END:VEVENT
END:VCALENDAR