BEGIN:VCALENDAR
VERSION:2.0
PRODID:-//Nepali Calendar//EN
BEGIN:VEVENT
UID:4d2cac5be384b77371bd7cf64bc9289b@nepalicalendar.com
DTSTAMP:20260422T190944Z
DTSTART;VALUE=DATE:20240625
DTEND;VALUE=DATE:20240626
SUMMARY:भूमी पूजा
DESCRIPTION:भूमी पूजा
END:VEVENT
END:VCALENDAR