BEGIN:VCALENDAR
VERSION:2.0
PRODID:-//Nepali Calendar//EN
BEGIN:VEVENT
UID:3e632937c42cfe43a94501c83ef3e9c2@nepalicalendar.com
DTSTAMP:20260422T190708Z
DTSTART;VALUE=DATE:20240625
DTEND;VALUE=DATE:20240626
SUMMARY:मंगलचौथी व्रत
DESCRIPTION:मंगलचौथी व्रत
END:VEVENT
END:VCALENDAR