BEGIN:VCALENDAR
VERSION:2.0
PRODID:-//Nepali Calendar//EN
BEGIN:VEVENT
UID:ec8002506dc07b4f6d620f1afce6f433@nepalicalendar.com
DTSTAMP:20260422T191312Z
DTSTART;VALUE=DATE:20240623
DTEND;VALUE=DATE:20240624
SUMMARY:अन्तर्राष्ट्रिय एकल महिला दिवस
DESCRIPTION:अन्तर्राष्ट्रिय एकल महिला दिवस
END:VEVENT
END:VCALENDAR