BEGIN:VCALENDAR
VERSION:2.0
PRODID:-//Nepali Calendar//EN
BEGIN:VEVENT
UID:4324140fd0809c5137d610729ffcf49f@nepalicalendar.com
DTSTAMP:20260422T191305Z
DTSTART;VALUE=DATE:20240622
DTEND;VALUE=DATE:20240623
SUMMARY:कवीर जयन्ती
DESCRIPTION:कवीर जयन्ती
END:VEVENT
END:VCALENDAR