BEGIN:VCALENDAR
VERSION:2.0
PRODID:-//Nepali Calendar//EN
BEGIN:VEVENT
UID:119119e21fd1493325274bb644c0569c@nepalicalendar.com
DTSTAMP:20260422T191004Z
DTSTART;VALUE=DATE:20240622
DTEND;VALUE=DATE:20240623
SUMMARY:ज्या: पुन्हि
DESCRIPTION:ज्या: पुन्हि
END:VEVENT
END:VCALENDAR