BEGIN:VCALENDAR
VERSION:2.0
PRODID:-//Nepali Calendar//EN
BEGIN:VEVENT
UID:90a51bc1f2c9ecc013a1ceba673e9621@nepalicalendar.com
DTSTAMP:20260422T005823Z
DTSTART;VALUE=DATE:20250612
DTEND;VALUE=DATE:20250613
SUMMARY:विश्व बालश्रम विरुद्ध दिवस
DESCRIPTION:विश्व बालश्रम विरुद्ध दिवस
END:VEVENT
END:VCALENDAR