BEGIN:VCALENDAR
VERSION:2.0
PRODID:-//Nepali Calendar//EN
BEGIN:VEVENT
UID:31c12ffeb10682cb05d37cadeafa27f3@nepalicalendar.com
DTSTAMP:20260422T190755Z
DTSTART;VALUE=DATE:20240621
DTEND;VALUE=DATE:20240622
SUMMARY:संगीत दिवस
DESCRIPTION:संगीत दिवस
END:VEVENT
END:VCALENDAR