BEGIN:VCALENDAR
VERSION:2.0
PRODID:-//Nepali Calendar//EN
BEGIN:VEVENT
UID:77825ddf37beffc5a425675b2078696a@nepalicalendar.com
DTSTAMP:20260422T190718Z
DTSTART;VALUE=DATE:20240621
DTEND;VALUE=DATE:20240622
SUMMARY:विश्व योग दिवस
DESCRIPTION:विश्व योग दिवस
END:VEVENT
END:VCALENDAR